BEGIN:VCALENDAR
VERSION:2.0
PRODID:-//ISGF SUBREGION ZENTRALEUROPA - ECPv6.15.20//NONSGML v1.0//EN
CALSCALE:GREGORIAN
METHOD:PUBLISH
X-ORIGINAL-URL:https://isgf-zentraleuropa.eu
X-WR-CALDESC:Veranstaltungen für ISGF SUBREGION ZENTRALEUROPA
REFRESH-INTERVAL;VALUE=DURATION:PT1H
X-Robots-Tag:noindex
X-PUBLISHED-TTL:PT1H
BEGIN:VTIMEZONE
TZID:Europe/Helsinki
BEGIN:DAYLIGHT
TZOFFSETFROM:+0200
TZOFFSETTO:+0300
TZNAME:EEST
DTSTART:20220327T010000
END:DAYLIGHT
BEGIN:STANDARD
TZOFFSETFROM:+0300
TZOFFSETTO:+0200
TZNAME:EET
DTSTART:20221030T010000
END:STANDARD
BEGIN:DAYLIGHT
TZOFFSETFROM:+0200
TZOFFSETTO:+0300
TZNAME:EEST
DTSTART:20230326T010000
END:DAYLIGHT
BEGIN:STANDARD
TZOFFSETFROM:+0300
TZOFFSETTO:+0200
TZNAME:EET
DTSTART:20231029T010000
END:STANDARD
BEGIN:DAYLIGHT
TZOFFSETFROM:+0200
TZOFFSETTO:+0300
TZNAME:EEST
DTSTART:20240331T010000
END:DAYLIGHT
BEGIN:STANDARD
TZOFFSETFROM:+0300
TZOFFSETTO:+0200
TZNAME:EET
DTSTART:20241027T010000
END:STANDARD
END:VTIMEZONE
BEGIN:VEVENT
DTSTART;VALUE=DATE:20230608
DTEND;VALUE=DATE:20230612
DTSTAMP:20260421T060712
CREATED:20230108T102245Z
LAST-MODIFIED:20230108T102245Z
UID:1710-1686182400-1686527999@isgf-zentraleuropa.eu
SUMMARY:Adventure – Weekend 2023 in Großarl „Klein aber Fein“  Großarl
DESCRIPTION:Link zu mehr Informationen: \nhttps://www.pgoe.at/event/adventure-weekend-2023-in-grossarl-klein-aber-fein/
URL:https://isgf-zentraleuropa.eu/event/adventure-weekend-2023-in-grossarl-klein-aber-fein-grossarl/
ATTACH;FMTTYPE=image/gif:https://isgf-zentraleuropa.eu/wp-content/uploads/2023/01/Bild1.gif
END:VEVENT
END:VCALENDAR