BEGIN:VCALENDAR
VERSION:2.0
PRODID:-//ISGF SUBREGION ZENTRALEUROPA - ECPv6.15.20//NONSGML v1.0//EN
CALSCALE:GREGORIAN
METHOD:PUBLISH
X-WR-CALNAME:ISGF SUBREGION ZENTRALEUROPA
X-ORIGINAL-URL:https://isgf-zentraleuropa.eu
X-WR-CALDESC:Veranstaltungen für ISGF SUBREGION ZENTRALEUROPA
REFRESH-INTERVAL;VALUE=DURATION:PT1H
X-Robots-Tag:noindex
X-PUBLISHED-TTL:PT1H
BEGIN:VTIMEZONE
TZID:Europe/Helsinki
BEGIN:DAYLIGHT
TZOFFSETFROM:+0200
TZOFFSETTO:+0300
TZNAME:EEST
DTSTART:20220327T010000
END:DAYLIGHT
BEGIN:STANDARD
TZOFFSETFROM:+0300
TZOFFSETTO:+0200
TZNAME:EET
DTSTART:20221030T010000
END:STANDARD
BEGIN:DAYLIGHT
TZOFFSETFROM:+0200
TZOFFSETTO:+0300
TZNAME:EEST
DTSTART:20230326T010000
END:DAYLIGHT
BEGIN:STANDARD
TZOFFSETFROM:+0300
TZOFFSETTO:+0200
TZNAME:EET
DTSTART:20231029T010000
END:STANDARD
BEGIN:DAYLIGHT
TZOFFSETFROM:+0200
TZOFFSETTO:+0300
TZNAME:EEST
DTSTART:20240331T010000
END:DAYLIGHT
BEGIN:STANDARD
TZOFFSETFROM:+0300
TZOFFSETTO:+0200
TZNAME:EET
DTSTART:20241027T010000
END:STANDARD
END:VTIMEZONE
BEGIN:VEVENT
DTSTART;VALUE=DATE:20231020
DTEND;VALUE=DATE:20231028
DTSTAMP:20260421T003543
CREATED:20230524T165330Z
LAST-MODIFIED:20230524T165712Z
UID:2193-1697760000-1698451199@isgf-zentraleuropa.eu
SUMMARY:Nationale Fellowships 5. Fellowship-Treffen in Tunesien
DESCRIPTION:  \nDie Tunesische Pfadfinderschaft organisiert das 5. Gemeinschaftstreffen in Tunesien\, das für alle Mitglieder der ISGF weltweit offen ist. Hier sind die wichtigsten Details: \n– Termin: 20. bis 27. Oktober 2023\n– Veranstaltungsort: Hotels in Tunis und auf der Insel Djerba\n– Thema: Humanitäre Aktionen von erwachsenen Pfadfindern und Pfadfinderinnen\n– Anmeldegebühr: 800 Euro pro Person im Doppelzimmer und 950 Euro im Einzelzimmer. Die Gebühr beinhaltet 7 Übernachtungen\, den Transport vom und zum Flughafen\, alle Mahlzeiten vom 20. (Mittagessen) bis zum 27. Frühstück\, alle Exkursionen\, Transporte und Besichtigungen wie im Programm beschrieben\, Dokumentation und einige Souvenirs.\n– Deadline für die Anmeldung: 15. Juni 2023\n– Kontakt: tun.roueds.scouts@gmail.com \nFür weitere Informationen und zur Anmeldung kannst du die bereitgestellten Links im Dokument besuchen. \nEinladung-Tunesien.pdf 
URL:https://isgf-zentraleuropa.eu/event/nationale-fellowships-5-fellowship-treffen-in-tunesien/
ATTACH;FMTTYPE=image/jpeg:https://isgf-zentraleuropa.eu/wp-content/uploads/2023/05/Logo-5.-Konferenz-20.-27.10.2023-Tunesien.jpeg
END:VEVENT
BEGIN:VEVENT
DTSTART;VALUE=DATE:20231020
DTEND;VALUE=DATE:20231023
DTSTAMP:20260421T003543
CREATED:20230916T094054Z
LAST-MODIFIED:20230916T094146Z
UID:2300-1697760000-1698019199@isgf-zentraleuropa.eu
SUMMARY:JOTA-JOTI 2023
DESCRIPTION:Die weltweit größte digitale und Radio-Scout-Veranstaltung zur Förderung von Freundschaft und Weltbürgerschaft. \nJetzt auf der Homepage registrieren:\nwww.jotajoti.info
URL:https://isgf-zentraleuropa.eu/event/jota-joti-2023/
ATTACH;FMTTYPE=image/jpeg:https://isgf-zentraleuropa.eu/wp-content/uploads/2023/09/JOTA-JOT-2023.jpg
END:VEVENT
BEGIN:VEVENT
DTSTART;VALUE=DATE:20231021
DTEND;VALUE=DATE:20231023
DTSTAMP:20260421T003543
CREATED:20230617T133621Z
LAST-MODIFIED:20230708T165125Z
UID:2217-1697846400-1698019199@isgf-zentraleuropa.eu
SUMMARY:Scouting = Friendship Forever in Wien
DESCRIPTION:20231021-22WorldfriendshipFlyer_engl\n\nhttps://weltfreundschaft.pgoe.at/\nDEUTSCH \nHier ein Flyer für ein Event namens „World Friendship“\, das am 21. und 22. Oktober 2023 in Wien stattfindet. Das Event feiert drei Jubiläen: \n\n70 Jahre ISGF (International Scout and Guide Fellowship).\n50 Jahre seit der ISGF-Weltkonferenz 1973 in Wien.\n15 Jahre seit der ISGF-Weltkonferenz 2008 in Wien.\n\nDer Flyer enthält Informationen über das Programm des Events: \n\nAm Samstag\, dem 21. Oktober 2023\, beginnt das Event um 14:00 Uhr mit einem Besuch im Pfadfindermuseum und dem Institut für Pfadfindergeschichte in Wien. Dort wird die aktuelle Ausstellung „Jamboree – Lebenstraum/Trauma“ gezeigt\, und es gibt Gelegenheit zum gemeinsamen Singen und Plaudern. Um 18:00 Uhr findet ein Treffen im Heuriger 10er Marie statt\, einer traditionellen Weinstube in Wien.\nAm Sonntag\, dem 22. Oktober 2023\, beginnt um 10:00 Uhr ein Stadtrundgang in Wien\, der am Haupteingang des Stephansdoms startet. Um 13:45 Uhr treffen sich die Teilnehmer im Rathauspark am Gedenkstein für die Weltkonferenz von 1973. Um 14:00 Uhr findet eine Steinenthüllung im Park statt\, gefolgt von einer Zeremonie im Wappensaal des Wiener Rathauses um 15:00 Uhr. Während der Zeremonie werden internationale Projekte vorgestellt.\n\nDie Teilnehmer werden gebeten\, ihre internationalen Projekte in Deutsch oder Englisch zu beschreiben und Fotos und Videos hochzuladen. Eine Jury wird die Projekte auswählen\, die im Rathaus präsentiert werden. \nEs wird empfohlen\, Hotels selbst zu buchen\, und es gibt Vorschläge für Hotels im Flyer. \nDie Anmeldung für das Event ist bis zum 15. September 2023 möglich und es gibt eine Teilnahmegebühr von 25 Euro.
URL:https://isgf-zentraleuropa.eu/event/scouting-friendship-forever-in-wien/
ATTACH;FMTTYPE=image/png:https://isgf-zentraleuropa.eu/wp-content/uploads/2023/06/pic.png
END:VEVENT
END:VCALENDAR