BEGIN:VCALENDAR
VERSION:2.0
PRODID:-//ISGF SUBREGION ZENTRALEUROPA - ECPv6.15.20//NONSGML v1.0//EN
CALSCALE:GREGORIAN
METHOD:PUBLISH
X-WR-CALNAME:ISGF SUBREGION ZENTRALEUROPA
X-ORIGINAL-URL:https://isgf-zentraleuropa.eu
X-WR-CALDESC:Veranstaltungen für ISGF SUBREGION ZENTRALEUROPA
REFRESH-INTERVAL;VALUE=DURATION:PT1H
X-Robots-Tag:noindex
X-PUBLISHED-TTL:PT1H
BEGIN:VTIMEZONE
TZID:Europe/Helsinki
BEGIN:DAYLIGHT
TZOFFSETFROM:+0200
TZOFFSETTO:+0300
TZNAME:EEST
DTSTART:20220327T010000
END:DAYLIGHT
BEGIN:STANDARD
TZOFFSETFROM:+0300
TZOFFSETTO:+0200
TZNAME:EET
DTSTART:20221030T010000
END:STANDARD
BEGIN:DAYLIGHT
TZOFFSETFROM:+0200
TZOFFSETTO:+0300
TZNAME:EEST
DTSTART:20230326T010000
END:DAYLIGHT
BEGIN:STANDARD
TZOFFSETFROM:+0300
TZOFFSETTO:+0200
TZNAME:EET
DTSTART:20231029T010000
END:STANDARD
BEGIN:DAYLIGHT
TZOFFSETFROM:+0200
TZOFFSETTO:+0300
TZNAME:EEST
DTSTART:20240331T010000
END:DAYLIGHT
BEGIN:STANDARD
TZOFFSETFROM:+0300
TZOFFSETTO:+0200
TZNAME:EET
DTSTART:20241027T010000
END:STANDARD
END:VTIMEZONE
BEGIN:VEVENT
DTSTART;VALUE=DATE:20231020
DTEND;VALUE=DATE:20231028
DTSTAMP:20260421T003533
CREATED:20230524T165330Z
LAST-MODIFIED:20230524T165712Z
UID:2193-1697760000-1698451199@isgf-zentraleuropa.eu
SUMMARY:Nationale Fellowships 5. Fellowship-Treffen in Tunesien
DESCRIPTION:  \nDie Tunesische Pfadfinderschaft organisiert das 5. Gemeinschaftstreffen in Tunesien\, das für alle Mitglieder der ISGF weltweit offen ist. Hier sind die wichtigsten Details: \n– Termin: 20. bis 27. Oktober 2023\n– Veranstaltungsort: Hotels in Tunis und auf der Insel Djerba\n– Thema: Humanitäre Aktionen von erwachsenen Pfadfindern und Pfadfinderinnen\n– Anmeldegebühr: 800 Euro pro Person im Doppelzimmer und 950 Euro im Einzelzimmer. Die Gebühr beinhaltet 7 Übernachtungen\, den Transport vom und zum Flughafen\, alle Mahlzeiten vom 20. (Mittagessen) bis zum 27. Frühstück\, alle Exkursionen\, Transporte und Besichtigungen wie im Programm beschrieben\, Dokumentation und einige Souvenirs.\n– Deadline für die Anmeldung: 15. Juni 2023\n– Kontakt: tun.roueds.scouts@gmail.com \nFür weitere Informationen und zur Anmeldung kannst du die bereitgestellten Links im Dokument besuchen. \nEinladung-Tunesien.pdf 
URL:https://isgf-zentraleuropa.eu/event/nationale-fellowships-5-fellowship-treffen-in-tunesien/
ATTACH;FMTTYPE=image/jpeg:https://isgf-zentraleuropa.eu/wp-content/uploads/2023/05/Logo-5.-Konferenz-20.-27.10.2023-Tunesien.jpeg
END:VEVENT
END:VCALENDAR