BEGIN:VCALENDAR
VERSION:2.0
PRODID:-//ISGF SUBREGION ZENTRALEUROPA - ECPv6.15.20//NONSGML v1.0//EN
CALSCALE:GREGORIAN
METHOD:PUBLISH
X-ORIGINAL-URL:https://isgf-zentraleuropa.eu
X-WR-CALDESC:Veranstaltungen für ISGF SUBREGION ZENTRALEUROPA
REFRESH-INTERVAL;VALUE=DURATION:PT1H
X-Robots-Tag:noindex
X-PUBLISHED-TTL:PT1H
BEGIN:VTIMEZONE
TZID:Europe/Berlin
BEGIN:DAYLIGHT
TZOFFSETFROM:+0100
TZOFFSETTO:+0200
TZNAME:CEST
DTSTART:20230326T010000
END:DAYLIGHT
BEGIN:STANDARD
TZOFFSETFROM:+0200
TZOFFSETTO:+0100
TZNAME:CET
DTSTART:20231029T010000
END:STANDARD
BEGIN:DAYLIGHT
TZOFFSETFROM:+0100
TZOFFSETTO:+0200
TZNAME:CEST
DTSTART:20240331T010000
END:DAYLIGHT
BEGIN:STANDARD
TZOFFSETFROM:+0200
TZOFFSETTO:+0100
TZNAME:CET
DTSTART:20241027T010000
END:STANDARD
BEGIN:DAYLIGHT
TZOFFSETFROM:+0100
TZOFFSETTO:+0200
TZNAME:CEST
DTSTART:20250330T010000
END:DAYLIGHT
BEGIN:STANDARD
TZOFFSETFROM:+0200
TZOFFSETTO:+0100
TZNAME:CET
DTSTART:20251026T010000
END:STANDARD
END:VTIMEZONE
BEGIN:VEVENT
DTSTART;VALUE=DATE:20240917
DTEND;VALUE=DATE:20240923
DTSTAMP:20260420T083938
CREATED:20221219T191358Z
LAST-MODIFIED:20230414T170208Z
UID:1629-1726531200-1727049599@isgf-zentraleuropa.eu
SUMMARY:30. ISGF Weltkonferenz NSGF 17. – 22. September 2024 in Granada/Spanien
DESCRIPTION:ISGF Weltkonferenz NSGF 17. – 22. September 2024 in Granada/Spanien
URL:https://isgf-zentraleuropa.eu/event/30-isgf-weltkonferenz-nsgf-17-22-september-2024-in-grena-da-spanien/
ATTACH;FMTTYPE=image/jpeg:https://isgf-zentraleuropa.eu/wp-content/uploads/2022/12/10.jpg
END:VEVENT
END:VCALENDAR