BEGIN:VCALENDAR
VERSION:2.0
PRODID:-//ISGF SUBREGION ZENTRALEUROPA - ECPv6.15.20//NONSGML v1.0//EN
CALSCALE:GREGORIAN
METHOD:PUBLISH
X-WR-CALNAME:ISGF SUBREGION ZENTRALEUROPA
X-ORIGINAL-URL:https://isgf-zentraleuropa.eu
X-WR-CALDESC:Veranstaltungen für ISGF SUBREGION ZENTRALEUROPA
REFRESH-INTERVAL;VALUE=DURATION:PT1H
X-Robots-Tag:noindex
X-PUBLISHED-TTL:PT1H
BEGIN:VTIMEZONE
TZID:Europe/Helsinki
BEGIN:DAYLIGHT
TZOFFSETFROM:+0200
TZOFFSETTO:+0300
TZNAME:EEST
DTSTART:20240331T010000
END:DAYLIGHT
BEGIN:STANDARD
TZOFFSETFROM:+0300
TZOFFSETTO:+0200
TZNAME:EET
DTSTART:20241027T010000
END:STANDARD
BEGIN:DAYLIGHT
TZOFFSETFROM:+0200
TZOFFSETTO:+0300
TZNAME:EEST
DTSTART:20250330T010000
END:DAYLIGHT
BEGIN:STANDARD
TZOFFSETFROM:+0300
TZOFFSETTO:+0200
TZNAME:EET
DTSTART:20251026T010000
END:STANDARD
BEGIN:DAYLIGHT
TZOFFSETFROM:+0200
TZOFFSETTO:+0300
TZNAME:EEST
DTSTART:20260329T010000
END:DAYLIGHT
BEGIN:STANDARD
TZOFFSETFROM:+0300
TZOFFSETTO:+0200
TZNAME:EET
DTSTART:20261025T010000
END:STANDARD
END:VTIMEZONE
BEGIN:VEVENT
DTSTART;VALUE=DATE:20250108
DTEND;VALUE=DATE:20250109
DTSTAMP:20260420T025631
CREATED:20230108T104939Z
LAST-MODIFIED:20230108T105035Z
UID:1735-1736294400-1736380799@isgf-zentraleuropa.eu
SUMMARY:17. Gathring der Region Asien-Pazifik NSGF Indonesien/AsPac Regionalausschuss Bandung Indonesien
DESCRIPTION:Es steht noch kein genaues Datum fest.
URL:https://isgf-zentraleuropa.eu/event/17-gathring-der-region-asien-pazifik-nsgf-indonesien-aspac-regionalausschuss-bandung-indonesien/
ATTACH;FMTTYPE=image/jpeg:https://isgf-zentraleuropa.eu/wp-content/uploads/2023/01/Bild10.jpg
END:VEVENT
BEGIN:VEVENT
DTSTART;VALUE=DATE:20250108
DTEND;VALUE=DATE:20250109
DTSTAMP:20260420T025631
CREATED:20230108T104819Z
LAST-MODIFIED:20230108T104819Z
UID:1732-1736294400-1736380799@isgf-zentraleuropa.eu
SUMMARY:7. subregionale Versammlung Südamerika
DESCRIPTION:Es steht noch kein genaues Datum fest.
URL:https://isgf-zentraleuropa.eu/event/7-subregionale-versammlung-suedamerika/
ATTACH;FMTTYPE=image/png:https://isgf-zentraleuropa.eu/wp-content/uploads/2023/01/Bild9.png
END:VEVENT
END:VCALENDAR