BEGIN:VCALENDAR
VERSION:2.0
PRODID:-//ISGF SUBREGION ZENTRALEUROPA - ECPv6.15.20//NONSGML v1.0//EN
CALSCALE:GREGORIAN
METHOD:PUBLISH
X-WR-CALNAME:ISGF SUBREGION ZENTRALEUROPA
X-ORIGINAL-URL:https://isgf-zentraleuropa.eu
X-WR-CALDESC:Veranstaltungen für ISGF SUBREGION ZENTRALEUROPA
REFRESH-INTERVAL;VALUE=DURATION:PT1H
X-Robots-Tag:noindex
X-PUBLISHED-TTL:PT1H
BEGIN:VTIMEZONE
TZID:Europe/Berlin
BEGIN:DAYLIGHT
TZOFFSETFROM:+0100
TZOFFSETTO:+0200
TZNAME:CEST
DTSTART:20220327T010000
END:DAYLIGHT
BEGIN:STANDARD
TZOFFSETFROM:+0200
TZOFFSETTO:+0100
TZNAME:CET
DTSTART:20221030T010000
END:STANDARD
BEGIN:DAYLIGHT
TZOFFSETFROM:+0100
TZOFFSETTO:+0200
TZNAME:CEST
DTSTART:20230326T010000
END:DAYLIGHT
BEGIN:STANDARD
TZOFFSETFROM:+0200
TZOFFSETTO:+0100
TZNAME:CET
DTSTART:20231029T010000
END:STANDARD
BEGIN:DAYLIGHT
TZOFFSETFROM:+0100
TZOFFSETTO:+0200
TZNAME:CEST
DTSTART:20240331T010000
END:DAYLIGHT
BEGIN:STANDARD
TZOFFSETFROM:+0200
TZOFFSETTO:+0100
TZNAME:CET
DTSTART:20241027T010000
END:STANDARD
END:VTIMEZONE
BEGIN:VTIMEZONE
TZID:Europe/Helsinki
BEGIN:DAYLIGHT
TZOFFSETFROM:+0200
TZOFFSETTO:+0300
TZNAME:EEST
DTSTART:20220327T010000
END:DAYLIGHT
BEGIN:STANDARD
TZOFFSETFROM:+0300
TZOFFSETTO:+0200
TZNAME:EET
DTSTART:20221030T010000
END:STANDARD
BEGIN:DAYLIGHT
TZOFFSETFROM:+0200
TZOFFSETTO:+0300
TZNAME:EEST
DTSTART:20230326T010000
END:DAYLIGHT
BEGIN:STANDARD
TZOFFSETFROM:+0300
TZOFFSETTO:+0200
TZNAME:EET
DTSTART:20231029T010000
END:STANDARD
BEGIN:DAYLIGHT
TZOFFSETFROM:+0200
TZOFFSETTO:+0300
TZNAME:EEST
DTSTART:20240331T010000
END:DAYLIGHT
BEGIN:STANDARD
TZOFFSETFROM:+0300
TZOFFSETTO:+0200
TZNAME:EET
DTSTART:20241027T010000
END:STANDARD
END:VTIMEZONE
BEGIN:VEVENT
DTSTART;VALUE=DATE:20230322
DTEND;VALUE=DATE:20230411
DTSTAMP:20260421T072749
CREATED:20221219T183501Z
LAST-MODIFIED:20230210T160656Z
UID:1602-1679443200-1681171199@isgf-zentraleuropa.eu
SUMMARY:Ausstellung: “Ausgetragen. Die Pfadfinderpost im Warschauer Aufstand 1944”
DESCRIPTION:März – 10. April 2023 Ausstellung “Ausgetragen. Die Pfadfinderpost im Warschauer Aufstand 1944”\, 44 Jahre Jugendaustausch BdP Bremen – ZHP Gdansk\, in der unteren Rathaushalle Bremen\n\n  \nAusstellungseröffnung: \n\nMärz 2023\, 19:00 Uhr\n\nFestsaal Obere Rathaushalle
URL:https://isgf-zentraleuropa.eu/event/ausstellung-ausgetragen-die-pfadfinderpost-im-warschauer-aufstand-1944/
ATTACH;FMTTYPE=image/png:https://isgf-zentraleuropa.eu/wp-content/uploads/2022/12/Bild4.png
END:VEVENT
BEGIN:VEVENT
DTSTART;VALUE=DATE:20230423
DTEND;VALUE=DATE:20230429
DTSTAMP:20260421T072749
CREATED:20221219T183850Z
LAST-MODIFIED:20221219T183850Z
UID:1605-1682208000-1682726399@isgf-zentraleuropa.eu
SUMMARY:4. Afrika Konferenz NSGF Regionalkomitee Afrika
DESCRIPTION:Afrika Konferenz NSGF Regionalkomitee Afrika 23.-28.04.2023 in Senegal
URL:https://isgf-zentraleuropa.eu/event/4-afrika-konferenz-nsgf-regionalkomitee-afrika/
ATTACH;FMTTYPE=image/png:https://isgf-zentraleuropa.eu/wp-content/uploads/2022/12/Bild5.png
END:VEVENT
BEGIN:VEVENT
DTSTART;TZID=Europe/Berlin:20230429T173000
DTEND;TZID=Europe/Berlin:20230429T220000
DTSTAMP:20260421T072749
CREATED:20221219T185151Z
LAST-MODIFIED:20230414T160159Z
UID:1608-1682789400-1682805600@isgf-zentraleuropa.eu
SUMMARY:22.. Georgsfeier bei der Gilde Scout Lounge Rückertgasse 5\, 1160 Wien
DESCRIPTION:22.. Georgsfeier 29.04.2023. bei der Gilde Scout Lounge Rückertgasse 5\, 1160 Wien \nDer eigentliche Georgstag ist am 23.04.2023. \nEintreffen: 17:30 Uhr\, Beginn: 18:00 Uhr \nAnmeldung an: andrea.gartlehner@pgoe.at\nTel.: +43 676 5565366
URL:https://isgf-zentraleuropa.eu/event/22-georgsfeier-bei-der-gilde-scout-lounge-rueckertgasse-5-1160-wien/
ATTACH;FMTTYPE=image/jpeg:https://isgf-zentraleuropa.eu/wp-content/uploads/2022/12/Termine-Veranstaltungen-ISGF-SRZE-Stand-14.04.jpg
END:VEVENT
END:VCALENDAR