BEGIN:VCALENDAR
VERSION:2.0
PRODID:-//ISGF SUBREGION ZENTRALEUROPA - ECPv6.15.20//NONSGML v1.0//EN
CALSCALE:GREGORIAN
METHOD:PUBLISH
X-ORIGINAL-URL:https://isgf-zentraleuropa.eu
X-WR-CALDESC:Veranstaltungen für ISGF SUBREGION ZENTRALEUROPA
REFRESH-INTERVAL;VALUE=DURATION:PT1H
X-Robots-Tag:noindex
X-PUBLISHED-TTL:PT1H
BEGIN:VTIMEZONE
TZID:Europe/Berlin
BEGIN:DAYLIGHT
TZOFFSETFROM:+0100
TZOFFSETTO:+0200
TZNAME:CEST
DTSTART:20220327T010000
END:DAYLIGHT
BEGIN:STANDARD
TZOFFSETFROM:+0200
TZOFFSETTO:+0100
TZNAME:CET
DTSTART:20221030T010000
END:STANDARD
BEGIN:DAYLIGHT
TZOFFSETFROM:+0100
TZOFFSETTO:+0200
TZNAME:CEST
DTSTART:20230326T010000
END:DAYLIGHT
BEGIN:STANDARD
TZOFFSETFROM:+0200
TZOFFSETTO:+0100
TZNAME:CET
DTSTART:20231029T010000
END:STANDARD
BEGIN:DAYLIGHT
TZOFFSETFROM:+0100
TZOFFSETTO:+0200
TZNAME:CEST
DTSTART:20240331T010000
END:DAYLIGHT
BEGIN:STANDARD
TZOFFSETFROM:+0200
TZOFFSETTO:+0100
TZNAME:CET
DTSTART:20241027T010000
END:STANDARD
END:VTIMEZONE
BEGIN:VEVENT
DTSTART;TZID=Europe/Berlin:20231208T140000
DTEND;TZID=Europe/Berlin:20231209T160000
DTSTAMP:20260420T202503
CREATED:20221219T191121Z
LAST-MODIFIED:20230517T115340Z
UID:1626-1702044000-1702137600@isgf-zentraleuropa.eu
SUMMARY:Achtung am 8.12. Hybrid SRZE Präsidiumssitzung in Linz - 9.12. Internationale Aussendungsfeier des ORF-Friedenslichtes im Mariendom (Neuer Dom) zu Linz\, Herrenstr. 26\, 4020 Linz (Oberösterreich)
DESCRIPTION:Samstag\, den 09. 12. 2023\, 14:00 Uhr wird die Internationale Aussendungsfeier des ORF-Friedenslichtes im Mariendom (Neuer Dom) zu Linz\, Herrenstr. 26\, 4020 Linz (Oberösterreich) statt-finden. \nInformationen \nDas Friedenslicht aus Bethlehem ist eine jährliche Tradition\, die von der Pfadfindervereinigung (International Scout and Guide Fellowship) organisiert wird. Das Friedenslicht wird am Heiligen Abend in der Geburtskirche in Bethlehem entzündet und von dort aus in die ganze Welt versendet. Die Pfadfinder sorgen dafür\, dass das Licht in vielen Ländern ankommt und an Menschen verteilt wird\, die es gerne empfangen möchten. \nDas Friedenslicht wird als Symbol für Frieden und Hoffnung betrachtet und soll dazu beitragen\, dass Menschen sich auf die wichtigsten Werte im Leben besinnen. Es wird oft in Kirchen und Gemeindezentren aufgestellt und an Weihnachten an Menschen verteilt\, die es gerne mit nach Hause nehmen möchten. \nDie Pfadfindervereinigung ist eine internationale Organisation\, die sich für Jugendliche und Kinder engagiert und ihnen beim Erwachsenwerden hilft. Sie organisiert viele Aktivitäten und Veranstaltungen\, die dazu beitragen sollen\, dass Kinder und Jugendliche in ihrer Entwicklung gefördert werden und sich in der Gemeinschaft engagieren können. Die Pfadfindervereinigung ist auch dafür verantwortlich\, dass das Friedenslicht aus Bethlehem in die ganze Welt versendet wird und so vielen Menschen die Möglichkeit gibt\, daran teilzuhaben. \nInsgesamt ist das Friedenslicht aus Bethlehem eine wichtige Tradition\, die von der Pfadfindervereinigung organisiert wird und die Menschen auf der ganzen Welt verbindet. Es ist ein Symbol für Frieden und Hoffnung und erinnert uns daran\, dass wir alle dazu beitragen können\, eine bessere Welt zu schaffen. \n 
URL:https://isgf-zentraleuropa.eu/event/internationale-aussendungsfeier-des-orf-friedenslichtes-im-mariendom-neuer-dom-zu-linz-herrenstr-26-4020-linz-oberoesterreich/
ATTACH;FMTTYPE=image/png:https://isgf-zentraleuropa.eu/wp-content/uploads/2022/12/9.png
END:VEVENT
END:VCALENDAR